Workbook

Sheet Data
A1: In | B1: Out
A2: Brand 16 | B2: Brand 24
A3: Brand 24 | B3: Brand 36
A4: Brand 18 | B4: Brand 16
A5: Brand 19 | B5: Brand 20
A6: Brand 24 | B6: Brand 16
A7: Brand 35 | B7: Brand 24
A8: Brand 28 | B8: Brand 24
A9: Brand 41 | B9: Brand 34
A10: Brand 16 | B10: Brand 24
A11: Brand 16 | B11: Brand 24
A12: Brand 29 | B12: Brand 16
... A132: Brand 16 | B132: Brand 36

Sheet Table_output
B1: IN | C1: OUT | D1: NET (In-Out)
A2: SWITCHING TABLES
A3: TOTAL | B3: 131 | C3: 131 | D3: 0
A4: Brand 1 | B4: =COUNTIF(Data!$A$2:$A$132,Table_output!$A4) -> 0 | C4: =COUNTIF(Data!$B$2:$B$132,Table_output!$A4) -> 1 | D4: =B4-C4 -> -1
A5: Brand 2 | B5: =COUNTIF(Data!$A$2:$A$132,Table_output!$A5) -> 1 | C5: =COUNTIF(Data!$B$2:$B$132,Table_output!$A5) -> 1 | D5: =B5-C5 -> 0
A6: Brand 3 | B6: =COUNTIF(Data!$A$2:$A$132,Table_output!$A6) -> 0 | C6: =COUNTIF(Data!$B$2:$B$132,Table_output!$A6) -> 1 | D6: =B6-C6 -> -1
A7: Brand 4 | B7: =COUNTIF(Data!$A$2:$A$132,Table_output!$A7) -> 0 | C7: =COUNTIF(Data!$B$2:$B$132,Table_output!$A7) -> 1 | D7: =B7-C7 -> -1
A8: Brand 5 | B8: =COUNTIF(Data!$A$2:$A$132,Table_output!$A8) -> 2 | C8: =COUNTIF(Data!$B$2:$B$132,Table_output!$A8) -> 0 | D8: =B8-C8 -> 2
A9: Brand 6 | B9: =COUNTIF(Data!$A$2:$A$132,Table_output!$A9) -> 0 | C9: =COUNTIF(Data!$B$2:$B$132,Table_output!$A9) -> 1 | D9: =B9-C9 -> -1
A10: Brand 7 | B10: =COUNTIF(Data!$A$2:$A$132,Table_output!$A10) -> 1 | C10: =COUNTIF(Data!$B$2:$B$132,Table_output!$A10) -> 0 | D10: =B10-C10 -> 1
A11: Brand 8 | B11: =COUNTIF(Data!$A$2:$A$132,Table_output!$A11) -> 1 | C11: =COUNTIF(Data!$B$2:$B$132,Table_output!$A11) -> 1 | D11: =B11-C11 -> 0
A12: Brand 9 | B12: =COUNTIF(Data!$A$2:$A$132,Table_output!$A12) -> 1 | C12: =COUNTIF(Data!$B$2:$B$132,Table_output!$A12) -> 0 | D12: =B12-C12 -> 1
A13: Brand 10 | B13: =COUNTIF(Data!$A$2:$A$132,Table_output!$A13) -> 1 | C13: =COUNTIF(Data!$B$2:$B$132,Table_output!$A13) -> 0 | D13: =B13-C13 -> 1
A14: Brand 11 | B14: =COUNTIF(Data!$A$2:$A$132,Table_output!$A14) -> 2 | C14: =COUNTIF(Data!$B$2:$B$132,Table_output!$A14) -> 0 | D14: =B14-C14 -> 2
A15: Brand 13 | B15: =COUNTIF(Data!$A$2:$A$132,Table_output!$A15) -> 1 | C15: =COUNTIF(Data!$B$2:$B$132,Table_output!$A15) -> 2 | D15: =B15-C15 -> -1
... A51: Brand 48 | B51: =COUNTIF(Data!$A$2:$A$132,Table_output!$A51) -> 0 | C51: =COUNTIF(Data!$B$2:$B$132,Table_output!$A51) -> 1 | D51: =B51-C51 -> -1
